View In:
  ArcGIS JavaScript
  ArcGIS Online Map Viewer
  ArcGIS Earth
Service Description:  d
Name:  SouthCarolina/CCR_Imagery
Description:  d
Single Fused Map Cache:  false
Extent: 
XMin: -9039210.002052387
YMin: 4027986.464666318
XMax: -9022905.602052387
YMax: 4044366.1646663183
Spatial Reference: 102100
 (3857)
 LatestVCSWkid(0)
Initial Extent: 
XMin: -9039210.002052387
YMin: 4027986.464666318
XMax: -9022905.602052387
YMax: 4044366.1646663183
Spatial Reference: 102100
 (3857)
 LatestVCSWkid(0)
Full Extent: 
XMin: -9039210.002052387
YMin: 4027986.464666318
XMax: -9022905.602052387
YMax: 4044366.1646663183
Spatial Reference: 102100
 (3857)
 LatestVCSWkid(0)
Pixel Size X:  0.3000000000000069
Pixel Size Y:  0.30000000000000343
Band Count: 3
Pixel Type: U8
RasterFunction Infos:  {"rasterFunctionInfos": [{
 "name": "None",
 "description": "",
 "help": ""
}]}
Mensuration Capabilities: Basic
Inspection Capabilities: 
Has Histograms:  true
Has Colormap:  false
Has Multi Dimensions :  false
Rendering Rule: 
Min Scale:  0
Max Scale:  0
Copyright Text:  d
Service Data Type:  esriImageServiceDataTypeRGB
Min Values:  0, 0, 0
Max Values:  255, 255, 255
Mean Values:  115.28842730235407, 125.05675275348143, 128.53852275188976
Standard Deviation Values:  51.69839471278538, 46.668578368215364, 35.16577302762361
Object ID Field:  
Fields: 
None
Default Mosaic Method:  Center
Allowed Mosaic Methods:  
SortField:  
SortValue:  null
Mosaic Operator:  First
Default Compression Quality:  75
Default Resampling Method:  Bilinear
Max Record Count:  null
Max Image Height:  4100
Max Image Width:  15000
Max Download Image Count:  null
Max Mosaic Image Count:  null
Allow Raster Function:  true
Allow Copy:  true
Allow Analysis:  true
Allow Compute TiePoints:  false
Supports Statistics:  false
Supports Advanced Queries:  false
Use StandardizedQueries:  true
Raster Type Infos: 
Name: Raster Dataset
Description: Supports all ArcGIS Raster Datasets
Help: 
Has Raster Attribute Table:  false
Edit Fields Info:  null
Ownership Based AccessControl For Rasters:  null
Child Resources:
  
Info
  Histograms
  Statistics
  Key Properties
  Legend
  Raster Function Infos
Supported Operations:
  
Export Image
  Identify
  Measure
  Compute Histograms
  Compute Statistics Histograms
  Get Samples
  Compute Class Statistics
  Query Boundary
  Compute Pixel Location
  Compute Angles
  Validate
  Project